BEGIN:VCALENDAR
PRODID:-//AT Content Types//AT Event//EN
VERSION:2.0
METHOD:PUBLISH
BEGIN:VEVENT
DTSTAMP:20260423T101552Z
CREATED:20140301T074939Z
UID:ATEvent-6b01b9d5-64b2-43c5-b471-c40931dfa888
LAST-MODIFIED:20140301T152126Z
SUMMARY:The Spring Festival break
DTSTART:20140127T060000Z
DTEND:20140207T055500Z
DESCRIPTION:The Spring Festival break
CLASS:PUBLIC
END:VEVENT
END:VCALENDAR
