BEGIN:VCALENDAR
PRODID:-//AT Content Types//AT Event//EN
VERSION:2.0
METHOD:PUBLISH
BEGIN:VEVENT
DTSTAMP:20260423T102035Z
CREATED:20130820T171613Z
UID:ATEvent-ed7c2857-3c36-418e-965b-b8172594ca91
LAST-MODIFIED:20130820T172416Z
SUMMARY:The 1st International Symposium of Evolutionary Genetics for Young Investigators
DTSTART:20130802T050000Z
DTEND:20130804T045500Z
LOCATION:GuangZhou
CLASS:PUBLIC
END:VEVENT
END:VCALENDAR
