BEGIN:VCALENDAR
PRODID:-//AT Content Types//AT Event//EN
VERSION:1.0
BEGIN:VEVENT
DTSTART:20140811T050000Z
DTEND:20140815T045500Z
DCREATED:20140807T122201Z
UID:ATEvent-baa9b0f9-4a85-430e-a70f-1dcd7825bdb7
SEQUENCE:0
LAST-MODIFIED:20140807T122423Z
SUMMARY:Summer Vocation
PRIORITY:3
TRANSP:0
END:VEVENT
END:VCALENDAR
