BEGIN:VCALENDAR
PRODID:-//AT Content Types//AT Event//EN
VERSION:2.0
METHOD:PUBLISH
BEGIN:VEVENT
DTSTAMP:20260423T101102Z
CREATED:20121026T123842Z
UID:ATEvent-c864ea96-0807-41fa-9137-6069187aec2d
LAST-MODIFIED:20121026T124400Z
SUMMARY:Spring Out 2012
DTSTART:20120420T140000Z
DTEND:20120420T220000Z
CLASS:PUBLIC
END:VEVENT
END:VCALENDAR
