BEGIN:VCALENDAR
PRODID:-//AT Content Types//AT Event//EN
VERSION:2.0
METHOD:PUBLISH
BEGIN:VEVENT
DTSTAMP:20260423T103922Z
CREATED:20140807T121515Z
UID:ATEvent-80b51cf0-b6fe-4b88-a9ee-e8cacdab7372
LAST-MODIFIED:20140807T122506Z
SUMMARY:SMBE Meeting 2014 in Puerto Rico
DTSTART:20140607T050000Z
DTEND:20140614T060000Z
DESCRIPTION:Prof.Zhang and Tan Shengjun attended  SMBE Meeting 2014 in
  Puerto Rico
LOCATION:Puerto Rico
CLASS:PUBLIC
END:VEVENT
END:VCALENDAR
