BEGIN:VCALENDAR
PRODID:-//AT Content Types//AT Event//EN
VERSION:2.0
METHOD:PUBLISH
BEGIN:VEVENT
DTSTAMP:20260423T101657Z
CREATED:20130724T173424Z
UID:ATEvent-2fddab61-752e-493d-8d51-63768c632e24
LAST-MODIFIED:20130724T173503Z
SUMMARY:SMBE Meeting 2013 in Chicago
DTSTART:20130706T050000Z
DTEND:20130713T045500Z
DESCRIPTION:Pr. Zhang \,Shengjun Tan and Haiwang Yang attended the SMB
 E Meeting 2013 in Chicago.\nhttp\://smbe2013.org/2013/Scientific-Progr
 am/2013-Symposia.aspx
LOCATION:Chicago
CLASS:PUBLIC
END:VEVENT
END:VCALENDAR
