BEGIN:VCALENDAR
PRODID:-//AT Content Types//AT Event//EN
VERSION:2.0
METHOD:PUBLISH
BEGIN:VEVENT
DTSTAMP:20260423T101600Z
CREATED:20140301T074545Z
UID:ATEvent-88de5f7b-2128-4504-9034-c3caa95cb9e0
LAST-MODIFIED:20140301T074559Z
SUMMARY:Postdoctor Research Report
DTSTART:20140115T200000Z
DTEND:20140115T220000Z
DESCRIPTION:Doctor Haiwang Yang presented his postdoctor  research rep
 ort of the last two years.
LOCATION:E112
CLASS:PUBLIC
END:VEVENT
END:VCALENDAR
