BEGIN:VCALENDAR
PRODID:-//AT Content Types//AT Event//EN
VERSION:2.0
METHOD:PUBLISH
BEGIN:VEVENT
DTSTAMP:20260423T101139Z
CREATED:20140522T171403Z
UID:ATEvent-646ef76a-1c8a-4862-a59f-66a6e45d4a0f
LAST-MODIFIED:20140522T171410Z
SUMMARY:Mid-term Assessment
DTSTART:20140422T190000Z
DTEND:20140422T223000Z
DESCRIPTION:PR.Dexing Zhang \,Chuanyun Li \, Wenfeng Qian  and Yang Sh
 en attended the meeing.\nThey gave some adives about the research proj
 ects of Chunyan Chen\, Huijing Ma and Dan Zhang.
LOCATION:A301
CLASS:PUBLIC
END:VEVENT
END:VCALENDAR
