BEGIN:VCALENDAR
PRODID:-//AT Content Types//AT Event//EN
VERSION:1.0
BEGIN:VEVENT
DTSTART:20130328T150000Z
DTEND:20130328T163000Z
DCREATED:20130405T190225Z
UID:ATEvent-ea90b055-94f2-4250-8ae2-ad52255a2656
SEQUENCE:0
LAST-MODIFIED:20130405T190312Z
SUMMARY:Lecture
DESCRIPTION:Bing Zhi Forum
LOCATION:B105
PRIORITY:3
TRANSP:0
END:VEVENT
END:VCALENDAR
