BEGIN:VCALENDAR
PRODID:-//AT Content Types//AT Event//EN
VERSION:2.0
METHOD:PUBLISH
BEGIN:VEVENT
DTSTAMP:20260423T101103Z
CREATED:20140523T152046Z
UID:ATEvent-b93da05a-1b91-4f2c-89d3-49d31d0c46de
LAST-MODIFIED:20140523T152057Z
SUMMARY:Lecture
DTSTART:20140522T190000Z
DTEND:20140522T223000Z
DESCRIPTION:讲座题目：Using BEAST and MCMCTree to Estimate Specie
 s Divergence Times with Fossil Calibrations.\n报告人： Mario dos 
 Reis （英国伦敦大学遗传进化与生态学系）
LOCATION:Beijing Institute of Genomics
CLASS:PUBLIC
END:VEVENT
END:VCALENDAR
