BEGIN:VCALENDAR
PRODID:-//AT Content Types//AT Event//EN
VERSION:2.0
METHOD:PUBLISH
BEGIN:VEVENT
DTSTAMP:20260423T101102Z
CREATED:20130407T144938Z
UID:ATEvent-41a79dc8-142f-4aa7-aa72-e6f0e585f588
LAST-MODIFIED:20130407T145011Z
SUMMARY:Lecture
DTSTART:20130411T150000Z
DTEND:20130412T230000Z
DESCRIPTION:Recomb-seq\, the satellite workshop
LOCATION:Tsinghua University
CLASS:PUBLIC
END:VEVENT
END:VCALENDAR
