BEGIN:VCALENDAR
PRODID:-//AT Content Types//AT Event//EN
VERSION:2.0
METHOD:PUBLISH
BEGIN:VEVENT
DTSTAMP:20260423T101743Z
CREATED:20120514T120043Z
UID:ATEvent-fb946a45-ee30-4a22-ac55-5589cdd22c80
LAST-MODIFIED:20120514T120045Z
SUMMARY:lab seminar and journal club
DTSTART:20120512T193000Z
DTEND:20120512T220000Z
LOCATION:A-501
CLASS:PUBLIC
END:VEVENT
END:VCALENDAR
