BEGIN:VCALENDAR
PRODID:-//AT Content Types//AT Event//EN
VERSION:2.0
METHOD:PUBLISH
BEGIN:VEVENT
DTSTAMP:20260423T101219Z
CREATED:20120323T052915Z
UID:ATEvent-a6bbcb49-3bfc-42f9-b36f-f3d60065dd21
LAST-MODIFIED:20120323T052920Z
SUMMARY:lab seminar
DTSTART:20120222T203000Z
DTEND:20120222T223000Z
LOCATION:E105
CLASS:PUBLIC
END:VEVENT
END:VCALENDAR
