BEGIN:VCALENDAR
PRODID:-//AT Content Types//AT Event//EN
VERSION:2.0
METHOD:PUBLISH
BEGIN:VEVENT
DTSTAMP:20260420T174637Z
CREATED:20140807T121812Z
UID:ATEvent-be27497d-6e44-424a-bbdf-aaad27a4b115
LAST-MODIFIED:20140807T121844Z
SUMMARY:Lab seminar
DTSTART:20140720T190000Z
DTEND:20140720T223000Z
DESCRIPTION:Prof. Zhang and Shengjun Tan introduced some interesting t
 opics about SMEB 2014.
LOCATION:A301
CLASS:PUBLIC
END:VEVENT
END:VCALENDAR
