BEGIN:VCALENDAR
PRODID:-//AT Content Types//AT Event//EN
VERSION:2.0
METHOD:PUBLISH
BEGIN:VEVENT
DTSTAMP:20260423T101245Z
CREATED:20111216T151050Z
UID:ATEvent-7b5cf380-b726-45f0-9281-2d03569cd173
LAST-MODIFIED:20111216T151053Z
SUMMARY:lab seminar
DTSTART:20111217T010000Z
DTEND:20111217T020000Z
DESCRIPTION:held online\, one day later than usual!
CLASS:PUBLIC
END:VEVENT
END:VCALENDAR
