BEGIN:VCALENDAR
PRODID:-//AT Content Types//AT Event//EN
VERSION:2.0
METHOD:PUBLISH
BEGIN:VEVENT
DTSTAMP:20260420T211609Z
CREATED:20130926T123340Z
UID:ATEvent-0598e1a5-e6ad-48c6-8d8a-1f4857af304b
LAST-MODIFIED:20130926T123345Z
SUMMARY:Lab seminar
DTSTART:20130913T190000Z
DTEND:20130913T223000Z
DESCRIPTION:Tan Shengjun and Shi Wenwen will present.
LOCATION:A301
CLASS:PUBLIC
END:VEVENT
END:VCALENDAR
