BEGIN:VCALENDAR
PRODID:-//AT Content Types//AT Event//EN
VERSION:2.0
METHOD:PUBLISH
BEGIN:VEVENT
DTSTAMP:20260423T101251Z
CREATED:20130418T103744Z
UID:ATEvent-037222a6-fdf9-4326-bdf9-72bae5474eb1
LAST-MODIFIED:20130418T103804Z
SUMMARY:Lab seminar
DTSTART:20130421T190000Z
DTEND:20130421T230000Z
DESCRIPTION:Liang Leng and Huijing Ma will present.
LOCATION:A501
CLASS:PUBLIC
END:VEVENT
END:VCALENDAR
