BEGIN:VCALENDAR
PRODID:-//AT Content Types//AT Event//EN
VERSION:1.0
BEGIN:VEVENT
DTSTART:20130331T190000Z
DTEND:20130331T230000Z
DCREATED:20130405T185947Z
UID:ATEvent-0f91d3cd-bbd2-438c-9e62-020ae750c68c
SEQUENCE:0
LAST-MODIFIED:20130405T190255Z
SUMMARY:lab seminar
DESCRIPTION:Project Report
LOCATION:A301
PRIORITY:3
TRANSP:0
END:VEVENT
END:VCALENDAR
