BEGIN:VCALENDAR
PRODID:-//AT Content Types//AT Event//EN
VERSION:1.0
BEGIN:VEVENT
DTSTART:20130324T190000Z
DTEND:20130324T220000Z
DCREATED:20130405T185314Z
UID:ATEvent-597fe354-8aa7-4096-9ef3-17b655473294
SEQUENCE:0
LAST-MODIFIED:20130405T185321Z
SUMMARY:lab seminar
DESCRIPTION:Project Report
LOCATION:A401
PRIORITY:3
TRANSP:0
END:VEVENT
END:VCALENDAR
