BEGIN:VCALENDAR
PRODID:-//AT Content Types//AT Event//EN
VERSION:2.0
METHOD:PUBLISH
BEGIN:VEVENT
DTSTAMP:20260420T174639Z
CREATED:20111129T134027Z
UID:ATEvent-92b1b0f4-e7a4-4736-a109-4c3cdcb19219
LAST-MODIFIED:20111206T183552Z
SUMMARY:lab seminar
DTSTART:20111202T010000Z
DTEND:20111202T020000Z
DESCRIPTION:held online
CLASS:PUBLIC
END:VEVENT
END:VCALENDAR
