BEGIN:VCALENDAR
PRODID:-//AT Content Types//AT Event//EN
VERSION:2.0
METHOD:PUBLISH
BEGIN:VEVENT
DTSTAMP:20260423T101138Z
CREATED:20111114T100757Z
UID:ATEvent-51c5a8e7-df9c-48ba-b8ff-3e8f69e1bc00
LAST-MODIFIED:20111114T100839Z
SUMMARY:lab seminar
DTSTART:20111118T010000Z
DTEND:20111118T020000Z
DESCRIPTION:held online
CLASS:PUBLIC
END:VEVENT
END:VCALENDAR
