BEGIN:VCALENDAR
PRODID:-//AT Content Types//AT Event//EN
VERSION:1.0
BEGIN:VEVENT
DTSTART:20120504T233000Z
DTEND:20120505T013000Z
DCREATED:20120505T094322Z
UID:ATEvent-c5394771-fba7-468f-97f5-7684078a921c
SEQUENCE:0
LAST-MODIFIED:20120505T094325Z
SUMMARY:lab seminar
LOCATION:A-301
PRIORITY:3
TRANSP:0
END:VEVENT
END:VCALENDAR
