BEGIN:VCALENDAR
PRODID:-//AT Content Types//AT Event//EN
VERSION:2.0
METHOD:PUBLISH
BEGIN:VEVENT
DTSTAMP:20260423T101401Z
CREATED:20120502T085750Z
UID:ATEvent-db37b0f5-800d-494d-a499-a04e4a98e6c0
LAST-MODIFIED:20120502T085928Z
SUMMARY:lab seminar
DTSTART:20120328T233000Z
DTEND:20120329T013000Z
LOCATION:A-301
CLASS:PUBLIC
END:VEVENT
END:VCALENDAR
