BEGIN:VCALENDAR
PRODID:-//AT Content Types//AT Event//EN
VERSION:2.0
METHOD:PUBLISH
BEGIN:VEVENT
DTSTAMP:20260423T101245Z
CREATED:20111106T151819Z
UID:ATEvent-a78ef322-6d35-49e1-a237-77f078d38566
LAST-MODIFIED:20111106T151823Z
SUMMARY:lab seminar
DTSTART:20111110T010000Z
DTEND:20111110T020000Z
DESCRIPTION:held online\, one day earlier than usual!
CLASS:PUBLIC
END:VEVENT
END:VCALENDAR
