BEGIN:VCALENDAR
PRODID:-//AT Content Types//AT Event//EN
VERSION:1.0
BEGIN:VEVENT
DTSTART:20160405T143000Z
DTEND:20160405T153000Z
DCREATED:20170512T192813Z
UID:ATEvent-97a77b6e-2b6b-47e6-975a-4bf709a8a1c0
SEQUENCE:0
LAST-MODIFIED:20170512T192816Z
SUMMARY:Invited Speaker：Victor Luria
PRIORITY:3
TRANSP:0
END:VEVENT
END:VCALENDAR
