BEGIN:VCALENDAR
PRODID:-//AT Content Types//AT Event//EN
VERSION:1.0
BEGIN:VEVENT
DTSTART:20140618T150000Z
DTEND:20140618T160000Z
DCREATED:20140807T115728Z
UID:ATEvent-243de388-8847-4c3a-b637-b50907c8f100
SEQUENCE:0
LAST-MODIFIED:20140807T115801Z
SUMMARY:Invited speaker\: Liang Han
DESCRIPTION:Maximizing the utility of TCGA genomic data\: Tools\, Anal
 ysis and Discovery
LOCATION:A501
PRIORITY:3
TRANSP:0
END:VEVENT
END:VCALENDAR
