BEGIN:VCALENDAR
PRODID:-//AT Content Types//AT Event//EN
VERSION:1.0
BEGIN:VEVENT
DTSTART:20120322T190000Z
DTEND:20120322T200000Z
DCREATED:20121026T115813Z
UID:ATEvent-e539b87f-5859-42c0-a901-292e4a8a17e7
SEQUENCE:0
LAST-MODIFIED:20121026T120016Z
SUMMARY:Invited Speaker\: He Bin
DESCRIPTION:Cis Regulatory Variation in Drosophila \: the evolutionary
  forces drivingTF binding sites turnover and the underpinning of a com
 plex trait
LOCATION:C101\,IOZ
PRIORITY:3
TRANSP:0
END:VEVENT
END:VCALENDAR
