BEGIN:VCALENDAR
PRODID:-//AT Content Types//AT Event//EN
VERSION:1.0
BEGIN:VEVENT
DTSTART:20131105T160000Z
DTEND:20131106T055500Z
DCREATED:20131119T100739Z
UID:ATEvent-1fc6c8d7-8768-4a33-a2d2-9ed2913a210b
SEQUENCE:0
LAST-MODIFIED:20131119T100831Z
SUMMARY:Invited speaker\: GANGQING HU
LOCATION:A401
PRIORITY:3
TRANSP:0
END:VEVENT
END:VCALENDAR
