BEGIN:VCALENDAR
PRODID:-//AT Content Types//AT Event//EN
VERSION:2.0
METHOD:PUBLISH
BEGIN:VEVENT
DTSTAMP:20260423T101218Z
CREATED:20140522T173333Z
UID:ATEvent-492ddd7d-d44a-45d3-9706-00efe418e271
LAST-MODIFIED:20140522T173404Z
SUMMARY:Holiday
DTSTART:20140501T060000Z
DTEND:20140503T135500Z
CLASS:PUBLIC
END:VEVENT
END:VCALENDAR
