BEGIN:VCALENDAR
PRODID:-//AT Content Types//AT Event//EN
VERSION:1.0
BEGIN:VEVENT
DTSTART:20140805T050000Z
DTEND:20140807T155500Z
DCREATED:20140807T122400Z
UID:ATEvent-c77f00d3-f4a0-4b78-abcd-fb34ef93294d
SEQUENCE:0
LAST-MODIFIED:20140807T122404Z
SUMMARY:Course of Molecular Evolution
DESCRIPTION:PART II Andy Clark\n\nTUESDAY\nAug 5th \nEvening 18\:30-21
 \:30\nBasic models in population genetics\nWEDNESDAY\nAug 6th\nAfterno
 ons 15\:30-17\:30\nEvenings 18\:30-21\:30\nGenetic drift\; \nNatural s
 election\nTHURSDAY\nAug 7th\nGenome wide association studies (GWAS)
LOCATION:北京大学
PRIORITY:3
TRANSP:0
END:VEVENT
END:VCALENDAR
